Workbook

Sheet Travel Log
B2: Salford Creatives Travel & Transport Log (with Carbon Tracker)
E4: Please use drop down menu | H4: Uneditable
B5: Date | C5: Journey Description | D5: No. People | E5: Mode of Transport | F5: One-Way Distance (Miles) | G5: Return Journey? | H5: Total Distance | I5: Estimated CO₂e (kg) | J5: Notes
H6: =IF(G6="Y",F6*2,F6) -> 0 | I6: =IFERROR(H6*VLOOKUP(E6,'Carbon Factors'!$A$2:$B$9,2,FALSE),0) -> 0
H7: =IF(G7="Y",F7*2,F7) -> 0 | I7: =IFERROR(H7*VLOOKUP(E7,'Carbon Factors'!$A$2:$B$9,2,FALSE),0) -> 0
H8: =IF(G8="Y",F8*2,F8) -> 0 | I8: =IFERROR(H8*VLOOKUP(E8,'Carbon Factors'!$A$2:$B$9,2,FALSE),0) -> 0
H9: =IF(G9="Y",F9*2,F9) -> 0 | I9: =IFERROR(H9*VLOOKUP(E9,'Carbon Factors'!$A$2:$B$9,2,FALSE),0) -> 0
H10: =IF(G10="Y",F10*2,F10) -> 0 | I10: =IFERROR(H10*VLOOKUP(E10,'Carbon Factors'!$A$2:$B$9,2,FALSE),0) -> 0
H11: =IF(G11="Y",F11*2,F11) -> 0 | I11: =IFERROR(H11*VLOOKUP(E11,'Carbon Factors'!$A$2:$B$9,2,FALSE),0) -> 0
H12: =IF(G12="Y",F12*2,F12) -> 0 | I12: =IFERROR(H12*VLOOKUP(E12,'Carbon Factors'!$A$2:$B$9,2,FALSE),0) -> 0
H13: =IF(G13="Y",F13*2,F13) -> 0 | I13: =IFERROR(H13*VLOOKUP(E13,'Carbon Factors'!$A$2:$B$9,2,FALSE),0) -> 0
H14: =IF(G14="Y",F14*2,F14) -> 0 | I14: =IFERROR(H14*VLOOKUP(E14,'Carbon Factors'!$A$2:$B$9,2,FALSE),0) -> 0
H15: =IF(G15="Y",F15*2,F15) -> 0 | I15: =IFERROR(H15*VLOOKUP(E15,'Carbon Factors'!$A$2:$B$9,2,FALSE),0) -> 0
H16: =IF(G16="Y",F16*2,F16) -> 0 | I16: =IFERROR(H16*VLOOKUP(E16,'Carbon Factors'!$A$2:$B$9,2,FALSE),0) -> 0
H17: =IF(G17="Y",F17*2,F17) -> 0 | I17: =IFERROR(H17*VLOOKUP(E17,'Carbon Factors'!$A$2:$B$9,2,FALSE),0) -> 0
... H105: =IF(G105="Y",F105*2,F105) -> 0 | I105: =IFERROR(H105*VLOOKUP(E105,'Carbon Factors'!$A$2:$B$9,2,FALSE),0) -> 0

Sheet Carbon Factors
A1: Mode | B1: kg CO2e per mile
A2: Walking | B2: 0
A3: Cycling | B3: 0
A4: Train | B4: 0.035
A5: Bus | B5: 0.08
A6: Car (petrol/diesel) | B6: 0.25
A7: Car Share | B7: 0.125
A8: Electric Vehicle | B8: 0.08
A9: Taxi | B9: 0.25

Sheet Summary
B2: Metric | C2: Value
B3: Total No. People | C3: =SUM('Travel Log'!D6:D105) -> 0
B4: Total Journeys | C4: =COUNTA('Travel Log'!F6:F105) -> 0
B5: Total Distance | C5: =SUM('Travel Log'!H6:H105) -> 0
B6: Estimated CO2e (kg) | C6: =SUM('Travel Log'!I6:I105) -> 0
